BEGIN:VCALENDAR
PRODID:-//eluceo/ical//2.0/EN
VERSION:2.0
CALSCALE:GREGORIAN
BEGIN:VEVENT
UID:5f467c6c62bf209f10ef97032cb85e5d
DTSTAMP:20260424T021627Z
SUMMARY:Club-Geburtstag
DESCRIPTION:Webseite: http://www.tonhalle-orchester.ch\nReferenten/innen: P
 aul Haug
URL:https://rotarymunot.ch/de/agenda/show/146532
DTSTART;TZID=Europe/Zurich:20220826T180000
DTEND;TZID=Europe/Zurich:20220826T180000
LOCATION:Tonhalle Zürich
CATEGORIES:Rotary
END:VEVENT
BEGIN:VTIMEZONE
TZID:Europe/Zurich
BEGIN:DAYLIGHT
DTSTART:20220826T180000
TZNAME:CEST
TZOFFSETTO:+0200
TZOFFSETFROM:+0200
END:DAYLIGHT
END:VTIMEZONE
END:VCALENDAR
