BEGIN:VCALENDAR
PRODID:-//eluceo/ical//2.0/EN
VERSION:2.0
CALSCALE:GREGORIAN
BEGIN:VEVENT
UID:838cf23e4e8deacd3c63d6c887986f1c
DTSTAMP:20260425T181441Z
SUMMARY:Abendanlass mit Partner: Zu Besuch im "Haus zur gewesenen Zeit" in 
 Diessenhofen
DESCRIPTION:Webseite: http://www.gewesenezeiten.ch
URL:https://rotarymunot.ch/de/agenda/show/185121
DTSTART;TZID=Europe/Zurich:20241016T174500
DTEND;TZID=Europe/Zurich:20241016T211500
LOCATION:Haus zur gewesenen Zeit\, Bahnhofstrasse 16\, 8253 Diessenhofen
CATEGORIES:Rotary
END:VEVENT
BEGIN:VTIMEZONE
TZID:Europe/Zurich
BEGIN:DAYLIGHT
DTSTART:20241016T174500
TZNAME:CEST
TZOFFSETTO:+0200
TZOFFSETFROM:+0200
END:DAYLIGHT
END:VTIMEZONE
END:VCALENDAR
