BEGIN:VCALENDAR
PRODID:-//eluceo/ical//2.0/EN
VERSION:2.0
CALSCALE:GREGORIAN
BEGIN:VEVENT
UID:ebbdce32dd624a4c5a969e384368a31e
DTSTAMP:20260425T153231Z
SUMMARY:Raiffeisen - lokales Unternehmertum als Erfolgsfaktor
DESCRIPTION:Webseite: http://www.promenade-schaffhausen.ch\nReferenten/inne
 n: Daniel Landolt
URL:https://rotarymunot.ch/de/agenda/show/185123
DTSTART;TZID=Europe/Zurich:20241023T114500
DTEND;TZID=Europe/Zurich:20241023T134500
LOCATION:Hotel Promenade\, Fäsenstaubstrasse 43\, 8200 Schaffhausen
CATEGORIES:Rotary
END:VEVENT
BEGIN:VTIMEZONE
TZID:Europe/Zurich
BEGIN:DAYLIGHT
DTSTART:20241023T114500
TZNAME:CEST
TZOFFSETTO:+0200
TZOFFSETFROM:+0200
END:DAYLIGHT
END:VTIMEZONE
END:VCALENDAR
