BEGIN:VCALENDAR
PRODID:-//eluceo/ical//2.0/EN
VERSION:2.0
CALSCALE:GREGORIAN
BEGIN:VEVENT
UID:579fff17a9e65c48c1b532ba9c5feb0e
DTSTAMP:20260425T134910Z
SUMMARY:"Start Up Safari durch Schaffhausen mit Einhörnern und Zebras"
DESCRIPTION:Webseite: http://www.promenade-schaffhausen.ch\nReferenten/inne
 n: Sandro Scalco
URL:https://rotarymunot.ch/de/agenda/show/185124
DTSTART;TZID=Europe/Zurich:20241030T114500
DTEND;TZID=Europe/Zurich:20241030T134500
LOCATION:Hotel Promenade\, Fäsenstaubstrasse 43\, 8200 Schaffhausen
CATEGORIES:Rotary
END:VEVENT
BEGIN:VTIMEZONE
TZID:Europe/Zurich
BEGIN:STANDARD
DTSTART:20241030T114500
TZNAME:CET
TZOFFSETTO:+0100
TZOFFSETFROM:+0100
END:STANDARD
END:VTIMEZONE
END:VCALENDAR
