BEGIN:VCALENDAR
PRODID:-//eluceo/ical//2.0/EN
VERSION:2.0
CALSCALE:GREGORIAN
BEGIN:VEVENT
UID:2ac6a6a5b1ce529dd871facae63a18f1
DTSTAMP:20260425T154617Z
SUMMARY:Die vbsh im Wandel - hin zur Elektromobilität
DESCRIPTION:Webseite: http://www.promenade-schaffhausen.ch\nReferenten/inne
 n: Patrick Altenburger\, Geschäftsführer vbsh
URL:https://rotarymunot.ch/de/agenda/show/185127
DTSTART;TZID=Europe/Zurich:20241113T114500
DTEND;TZID=Europe/Zurich:20241113T134500
LOCATION:Hotel Promenade\, Fäsenstaubstrasse 43\, 8200 Schaffhausen
CATEGORIES:Rotary
END:VEVENT
BEGIN:VTIMEZONE
TZID:Europe/Zurich
BEGIN:STANDARD
DTSTART:20241113T114500
TZNAME:CET
TZOFFSETTO:+0100
TZOFFSETFROM:+0100
END:STANDARD
END:VTIMEZONE
END:VCALENDAR
