BEGIN:VCALENDAR
PRODID:-//eluceo/ical//2.0/EN
VERSION:2.0
CALSCALE:GREGORIAN
BEGIN:VEVENT
UID:2fba8cd434c5645ea1b7d461c3d5207a
DTSTAMP:20260425T141157Z
SUMMARY:Novemberwanderung / Partneranlass
DESCRIPTION:
URL:https://rotarymunot.ch/de/agenda/show/186921
DTSTART;TZID=Europe/Zurich:20241107T140000
DTEND;TZID=Europe/Zurich:20241107T190000
LOCATION:Gemeinde Merishausen
CATEGORIES:Rotary
END:VEVENT
BEGIN:VTIMEZONE
TZID:Europe/Zurich
BEGIN:STANDARD
DTSTART:20241107T140000
TZNAME:CET
TZOFFSETTO:+0100
TZOFFSETFROM:+0100
END:STANDARD
END:VTIMEZONE
END:VCALENDAR
