BEGIN:VCALENDAR
PRODID:-//eluceo/ical//2.0/EN
VERSION:2.0
CALSCALE:GREGORIAN
BEGIN:VEVENT
UID:1f10310bc2ab95443cd672424dc34f64
DTSTAMP:20260422T144936Z
SUMMARY:Warum Dänen die besseren Schweizer sind - ein interaktives Intervi
 ew
DESCRIPTION:Website: http://www.promenade-schaffhausen.ch\nSpeaker(s): Torb
 en Duer
URL:https://rotarymunot.ch/en/agenda/show/189233
DTSTART;TZID=Europe/Zurich:20250219T114500
DTEND;TZID=Europe/Zurich:20250219T134500
LOCATION:Hotel Promenade\, Fäsenstaubstrasse 43\, 8200 Schaffhausen
CATEGORIES:Rotary
END:VEVENT
BEGIN:VTIMEZONE
TZID:Europe/Zurich
BEGIN:STANDARD
DTSTART:20250219T114500
TZNAME:CET
TZOFFSETTO:+0100
TZOFFSETFROM:+0100
END:STANDARD
END:VTIMEZONE
END:VCALENDAR
