BEGIN:VCALENDAR
PRODID:-//eluceo/ical//2.0/EN
VERSION:2.0
CALSCALE:GREGORIAN
BEGIN:VEVENT
UID:b4ae1eab696cadcb0da70eb605b61cdb
DTSTAMP:20260419T123925Z
SUMMARY:Stadtwanderung - vom Schanzengraben zum Sprüngli
DESCRIPTION:
URL:https://rotarymunot.ch/en/agenda/show/209093
DTSTART;TZID=Europe/Zurich:20260507T131500
DTEND;TZID=Europe/Zurich:20260507T174500
LOCATION:Stadt Schaffhausen
CATEGORIES:Rotary
END:VEVENT
BEGIN:VTIMEZONE
TZID:Europe/Zurich
BEGIN:DAYLIGHT
DTSTART:20260507T131500
TZNAME:CEST
TZOFFSETTO:+0200
TZOFFSETFROM:+0200
END:DAYLIGHT
END:VTIMEZONE
END:VCALENDAR
