BEGIN:VCALENDAR
PRODID:-//eluceo/ical//2.0/EN
VERSION:2.0
CALSCALE:GREGORIAN
BEGIN:VEVENT
UID:ed5c3335997c6c3f519b65add3f75151
DTSTAMP:20260419T195752Z
SUMMARY:Lunch mit Thema "Neumitglieder-Generation" durch Christoph Brumm
DESCRIPTION:
URL:https://rotarymunot.ch/es/agenda/show/97591
DTSTART;TZID=Europe/Zurich:20190605T120000
DTEND;TZID=Europe/Zurich:20190605T134500
LOCATION:Hotel Promenade
CATEGORIES:Rotary
END:VEVENT
BEGIN:VTIMEZONE
TZID:Europe/Zurich
BEGIN:DAYLIGHT
DTSTART:20190605T120000
TZNAME:CEST
TZOFFSETTO:+0200
TZOFFSETFROM:+0200
END:DAYLIGHT
END:VTIMEZONE
END:VCALENDAR
