BEGIN:VCALENDAR
PRODID:-//eluceo/ical//2.0/EN
VERSION:2.0
CALSCALE:GREGORIAN
BEGIN:VEVENT
UID:9f2741654da5d6bf8913740a043ffd35
DTSTAMP:20260419T175955Z
SUMMARY:Abendanlass mit Information "Gemeindienst\, nächste Schritte" durc
 h Christian Bär
DESCRIPTION:
URL:https://rotarymunot.ch/es/agenda/show/97592
DTSTART;TZID=Europe/Zurich:20190612T183000
DTEND;TZID=Europe/Zurich:20190612T220000
LOCATION:Hotel Promenade
CATEGORIES:Rotary
END:VEVENT
BEGIN:VTIMEZONE
TZID:Europe/Zurich
BEGIN:DAYLIGHT
DTSTART:20190612T183000
TZNAME:CEST
TZOFFSETTO:+0200
TZOFFSETFROM:+0200
END:DAYLIGHT
END:VTIMEZONE
END:VCALENDAR
