BEGIN:VCALENDAR
PRODID:-//eluceo/ical//2.0/EN
VERSION:2.0
CALSCALE:GREGORIAN
BEGIN:VEVENT
UID:ae0bb6aa3a3eef4adb20f3dff429637e
DTSTAMP:20260419T163653Z
SUMMARY:Wanderung zum Generalstand\, Donnerstag\, 13. Juni 2019
DESCRIPTION:Liebe Kolleginnen und Kollegen\n\nHermann Sieber lädt zur näc
 hsten Wanderung am Donnerstag\, 13. Juni2019 ein. Details könnt ihr beili
 egender Einladung entnehmen.\n\nHerzliche Grüsse und allen Wanderlustigen
  einen vergnüglichen Tag.\n\nJlona \n\n \n\n 
URL:https://rotarymunot.ch/es/agenda/show/99883
DTSTART;TZID=Europe/Zurich:20190613T120000
DTEND;TZID=Europe/Zurich:20190613T180000
LOCATION:Bahnhof Schaffhausen - Diessenhofen - Generalstand - Diessenhofen 
 - Schaffhausen
CATEGORIES:Rotary
END:VEVENT
BEGIN:VTIMEZONE
TZID:Europe/Zurich
BEGIN:DAYLIGHT
DTSTART:20190613T120000
TZNAME:CEST
TZOFFSETTO:+0200
TZOFFSETFROM:+0200
END:DAYLIGHT
END:VTIMEZONE
END:VCALENDAR
