BEGIN:VCALENDAR
PRODID:-//eluceo/ical//2.0/EN
VERSION:2.0
CALSCALE:GREGORIAN
BEGIN:VEVENT
UID:bd770eababd4f4f52165246a3f864b11
DTSTAMP:20260422T135259Z
SUMMARY:... exzellentes Handwerk
DESCRIPTION:Zur Verleihung des diesjährigen Handwerkerpreises sind wir be
 i Beat Moretti in seiner Werkstatt zu Gast! (Kein Partneranlass)\n\n18.30h
  Apéro\n\n19.00h Verleihung Handerwerkerpreis\n\n19.30h Abendessen und ge
 mütliches Beisammensein\n\nKosten pro Person: Fr. 35.-- (bitte Betrag abg
 ezählt mitbringen)\n\nAnmeldung bis 27. Oktober 2019\n\nBitte mit ÖV anr
 eisen!\nSite internet: http://www.moretti-maler.ch\nConférencier(s): Verl
 eihung Handwerkerpreis 2019
URL:https://rotarymunot.ch/fr/agenda/show/102102
DTSTART;TZID=Europe/Zurich:20191030T183000
DTEND;TZID=Europe/Zurich:20191030T220000
LOCATION:Werkstatt Moretti\, Schlossstrasse 67\, Schaffhausen (Bitte ÖV be
 nutzen!)
CATEGORIES:Rotary
END:VEVENT
BEGIN:VTIMEZONE
TZID:Europe/Zurich
BEGIN:STANDARD
DTSTART:20191030T183000
TZNAME:CET
TZOFFSETTO:+0100
TZOFFSETFROM:+0100
END:STANDARD
END:VTIMEZONE
END:VCALENDAR
