BEGIN:VCALENDAR
PRODID:-//eluceo/ical//2.0/EN
VERSION:2.0
CALSCALE:GREGORIAN
BEGIN:VEVENT
UID:e57a80776f84fe61717b5acf944a1518
DTSTAMP:20260424T101146Z
SUMMARY:... Schaffhausen in Bern. ABGESAGT aufgrund Corona Virus!
DESCRIPTION:Wir machen einen Sessionsbesuch und wollen die Diskussionen in 
 den eidg. Räten von der Tribüne aus verfolgen. Anschliessend werden wir 
 mit unserem Ständerat Hannes Germann das Mittagessen einnehmen und erkund
 en dann die Stadt Bern.\n\nAbfahrt Bahnhof Schaffhausen 0817 h\, Ankunft 
 in Bern ca 1000 h (Reise mit SBB). Bummel zum Bundeshaus mit einem Kaffeeh
 alt ab 1000 h im Café Entrecôte Fédérale\, https://entrecote.ch/entr
 e-connaisseurs.html vis-à-vis vom Bundeshaus und unmittelbar vor dem zau
 berhaften Wasserspiel auf dem Bundesplatz. Dies ist auch der Treffpunkt f
 ür all diejenigen\, die individuell nach Bern reisen.\n\n1100 h Eingangsk
 ontrolle (Ausweise mitnehmen!)\n1130 - 1200 h Besprechung mit SR Hannes Ge
 rmann\n1200 - 1300 h Mitverfolgen der Session\, resp. Beratungen von der 
 Tribüne.\n\nAnschliessend Apéro und gemeinsames Mittagessen mit unserem 
 Ständeherr im Restaurant Della Casa - dem Berner Traditionshaus an der 
 Schauplatzgasse 16 im 1. Stock https://www.della-casa.ch\n\nIndividueller
  Bummel durch Bern's Altstadt und Rückfahrt mit dem Zug.\n\nRückkehr in
  Schaffhausen spätestens 1900 h\n\nJeder kauft sein Billett selbst. Die 
 Kosten für das Mittagessen inkl. Wein\, Wasser und Kaffe\, bzw. Tee belau
 fen sich auf CHF 54.- pro Person und werden beim Eintreffen im Restaurant 
 Della Casa einkassiert.\n\nDie Teilnehmerzahl ist beschränkt auf 40. Es w
 äre aber auch sehr peinlich\, wenn wir diese 40 reservierten Plätze nich
 t ausfüllen würden! \n\n \nSite internet: http://www.parlament.ch\;  \
 nConférencier(s): Besuch der Frühlingssession 2020
URL:https://rotarymunot.ch/fr/agenda/show/102117
DTSTART;TZID=Europe/Zurich:20200303T081500
DTEND;TZID=Europe/Zurich:20200303T190000
LOCATION:Bundeshaus in Bern
CATEGORIES:Rotary
END:VEVENT
BEGIN:VTIMEZONE
TZID:Europe/Zurich
BEGIN:STANDARD
DTSTART:20200303T081500
TZNAME:CET
TZOFFSETTO:+0100
TZOFFSETFROM:+0100
END:STANDARD
END:VTIMEZONE
END:VCALENDAR
