BEGIN:VCALENDAR
PRODID:-//eluceo/ical//2.0/EN
VERSION:2.0
CALSCALE:GREGORIAN
BEGIN:VEVENT
UID:8af827d0a6d849421ddec2b24a7b9e60
DTSTAMP:20260422T134456Z
SUMMARY:Erster Lunch in der Promenade nach der Zwangspause!
DESCRIPTION:Wir freuen uns riesig\, dass wir unsere Lunchtreffen wieder auf
 nehmen können! Unseren ersten Lunch wollen wir zum persönlichen Austaus
 ch nutzen. 3-Minuten Beiträge\, zum Beispiel über Erfahrungen der vergan
 genen Wochen\, sind sehr willkommen!\n\nDamit das weiterhin geltende Schut
 zkonzept eingehalten werden kann und genügend Platz für alle zur Verfüg
 ung steht\, bitten wir um Anmeldung bis Montagabend. Aus demselben Grund w
 ird der Apéro am Tisch serviert.\n\nBis Ende Clubjahr ist die Präsenzpfl
 icht weiterhin aufgehoben. Wir würden uns aber sehr freuen\, viele unsere
 r Freundinnen und Freunde wieder zu treffen.\n\n \n\n...Begegnungsorte - 
 ABGESAGT\n\nBarbara Raulf\, Leiterin des Familienzentrums in der Stadt Sch
 affhausen wird uns zu einem späteren Zeitpunkt über den Sinn des Familie
 nzentrums\, seine verschiedenen Angebote berichten.\nConférencier(s): per
 sönlicher Austausch - 3 Minuten-Beiträge willkommen!
URL:https://rotarymunot.ch/fr/agenda/show/106661
DTSTART;TZID=Europe/Zurich:20200610T120000
DTEND;TZID=Europe/Zurich:20200610T133000
LOCATION:Hotel Promenade
CATEGORIES:Rotary
END:VEVENT
BEGIN:VTIMEZONE
TZID:Europe/Zurich
BEGIN:DAYLIGHT
DTSTART:20200610T120000
TZNAME:CEST
TZOFFSETTO:+0200
TZOFFSETFROM:+0200
END:DAYLIGHT
END:VTIMEZONE
END:VCALENDAR
