BEGIN:VCALENDAR
PRODID:-//eluceo/ical//2.0/EN
VERSION:2.0
CALSCALE:GREGORIAN
BEGIN:VEVENT
UID:ae19c6fbd57ae1906b08f80242b7f248
DTSTAMP:20260424T101424Z
SUMMARY:Rotarischer Adventsanlass
DESCRIPTION:Kaffee und Kuchen in der Weinstube TANNE zugunsten der Radio Mu
 not Weihanchtsaktion "\nSt. Josef-Schule in Kalkutta \n\nhttp://www.calcu
 tta-schule.de\n\nKuchenspenden werden sehr gerne entgegengenommen. Wenden 
 Sie sich bitte direkt an Hans Graf (hans.graf@immobag.ch)\nConférencier(s
 ): RC Schaffhausen\nRC Schaffhausen Munot
URL:https://rotarymunot.ch/fr/agenda/show/107136
DTSTART;TZID=Europe/Zurich:20191215T130000
DTEND;TZID=Europe/Zurich:20191215T170000
LOCATION:Restaurant Tanne\, Schaffhausen
CATEGORIES:Rotary
END:VEVENT
BEGIN:VTIMEZONE
TZID:Europe/Zurich
BEGIN:STANDARD
DTSTART:20191215T130000
TZNAME:CET
TZOFFSETTO:+0100
TZOFFSETFROM:+0100
END:STANDARD
END:VTIMEZONE
END:VCALENDAR
