BEGIN:VCALENDAR
PRODID:-//eluceo/ical//2.0/EN
VERSION:2.0
CALSCALE:GREGORIAN
BEGIN:VEVENT
UID:21fa9baae09a5c982cfd32b2b4e7603e
DTSTAMP:20260424T100129Z
SUMMARY:Karussell-Anlass mit RC Schaffhausen und RC Zürich Weinland
DESCRIPTION:Conférencier(s): Wir beginnen die Karussell-Anlässe diese Jah
 r und sind in der Promenade Gastgeber für den RC Schaffhausen und RC Zür
 ich Weinland.
URL:https://rotarymunot.ch/fr/agenda/show/114726
DTSTART;TZID=Europe/Zurich:20200722T114500
DTEND;TZID=Europe/Zurich:20200722T140000
LOCATION:Hotel Promenade
CATEGORIES:Rotary
END:VEVENT
BEGIN:VTIMEZONE
TZID:Europe/Zurich
BEGIN:DAYLIGHT
DTSTART:20200722T114500
TZNAME:CEST
TZOFFSETTO:+0200
TZOFFSETFROM:+0200
END:DAYLIGHT
END:VTIMEZONE
END:VCALENDAR
