BEGIN:VCALENDAR
PRODID:-//eluceo/ical//2.0/EN
VERSION:2.0
CALSCALE:GREGORIAN
BEGIN:VEVENT
UID:1387db85b231b5206a3d294157cd9463
DTSTAMP:20260422T153108Z
SUMMARY:Endlich kein Stau - Der Galgenbucktunnel
DESCRIPTION:Leider muss der Referent das Referat aufgrund der Pandemieentwi
 cklung erneut absagen.\n\nDer Lunch wird als Plauderlunch abgehalten werde
 n\, in dessen Rahmen wir uns darüber unterhalten werden\, wie wir in der 
 nächsten Zeit mit unseren Zusammenkünften umgehen sollen. \nConférenci
 er(s): Andreas Weidinger UVEK
URL:https://rotarymunot.ch/fr/agenda/show/115538
DTSTART;TZID=Europe/Zurich:20201028T114500
DTEND;TZID=Europe/Zurich:20201028T140000
LOCATION:Hotel Promenade
CATEGORIES:Rotary
END:VEVENT
BEGIN:VTIMEZONE
TZID:Europe/Zurich
BEGIN:STANDARD
DTSTART:20201028T114500
TZNAME:CET
TZOFFSETTO:+0100
TZOFFSETFROM:+0100
END:STANDARD
END:VTIMEZONE
END:VCALENDAR
