BEGIN:VCALENDAR
PRODID:-//eluceo/ical//2.0/EN
VERSION:2.0
CALSCALE:GREGORIAN
BEGIN:VEVENT
UID:e5dc9f050560d1b5898ca97cf81148a0
DTSTAMP:20260422T152258Z
SUMMARY:Online-Whiskytasting (Partneranlass)
DESCRIPTION:Conférencier(s): Boris Litmanowitsch
URL:https://rotarymunot.ch/fr/agenda/show/122861
DTSTART;TZID=Europe/Zurich:20210224T193000
DTEND;TZID=Europe/Zurich:20210224T213000
LOCATION:per Zoom
CATEGORIES:Rotary
END:VEVENT
BEGIN:VTIMEZONE
TZID:Europe/Zurich
BEGIN:STANDARD
DTSTART:20210224T193000
TZNAME:CET
TZOFFSETTO:+0100
TZOFFSETFROM:+0100
END:STANDARD
END:VTIMEZONE
END:VCALENDAR
