BEGIN:VCALENDAR
PRODID:-//eluceo/ical//2.0/EN
VERSION:2.0
CALSCALE:GREGORIAN
BEGIN:VEVENT
UID:03e440a06269a5ffe25b69d7cb30b3cd
DTSTAMP:20260422T191320Z
SUMMARY:Verleihung Handwerkerpreis
DESCRIPTION:Site internet: http://www.promenade-schaffhausen.ch
URL:https://rotarymunot.ch/fr/agenda/show/129699
DTSTART;TZID=Europe/Zurich:20210922T121500
DTEND;TZID=Europe/Zurich:20210922T140000
LOCATION:Hotel Promenade\, Fäsenstaubstrasse 43\, 8200 Schaffhausen
CATEGORIES:Rotary
END:VEVENT
BEGIN:VTIMEZONE
TZID:Europe/Zurich
BEGIN:DAYLIGHT
DTSTART:20210922T121500
TZNAME:CEST
TZOFFSETTO:+0200
TZOFFSETFROM:+0200
END:DAYLIGHT
END:VTIMEZONE
END:VCALENDAR
