BEGIN:VCALENDAR
PRODID:-//eluceo/ical//2.0/EN
VERSION:2.0
CALSCALE:GREGORIAN
BEGIN:VEVENT
UID:76e01e2c7db0af8e629ecb1336f3bd8e
DTSTAMP:20260422T161318Z
SUMMARY:Partneranlass "Digitale Menschenrechte"
DESCRIPTION:Site internet: http://www.promenade-schaffhausen.ch
URL:https://rotarymunot.ch/fr/agenda/show/129707
DTSTART;TZID=Europe/Zurich:20211020T180000
DTEND;TZID=Europe/Zurich:20211020T220000
LOCATION:Hotel Promenade\, Fäsenstaubstrasse 43\, 8200 Schaffhausen
CATEGORIES:Rotary
END:VEVENT
BEGIN:VTIMEZONE
TZID:Europe/Zurich
BEGIN:DAYLIGHT
DTSTART:20211020T180000
TZNAME:CEST
TZOFFSETTO:+0200
TZOFFSETFROM:+0200
END:DAYLIGHT
END:VTIMEZONE
END:VCALENDAR
