BEGIN:VCALENDAR
PRODID:-//eluceo/ical//2.0/EN
VERSION:2.0
CALSCALE:GREGORIAN
BEGIN:VEVENT
UID:de94a50d52a54268e17bc8f404f45239
DTSTAMP:20260422T131443Z
SUMMARY:Die Schweizer Mission in Korea
DESCRIPTION:Site internet: http://www.promenade-schaffhausen.ch\nConférenc
 ier(s): Christian Birchmeier 
URL:https://rotarymunot.ch/fr/agenda/show/129716
DTSTART;TZID=Europe/Zurich:20211110T120000
DTEND;TZID=Europe/Zurich:20211110T134500
LOCATION:Hotel Promenade\, Fäsenstaubstrasse 43\, 8200 Schaffhausen
CATEGORIES:Rotary
END:VEVENT
BEGIN:VTIMEZONE
TZID:Europe/Zurich
BEGIN:STANDARD
DTSTART:20211110T120000
TZNAME:CET
TZOFFSETTO:+0100
TZOFFSETFROM:+0100
END:STANDARD
END:VTIMEZONE
END:VCALENDAR
