BEGIN:VCALENDAR
PRODID:-//eluceo/ical//2.0/EN
VERSION:2.0
CALSCALE:GREGORIAN
BEGIN:VEVENT
UID:e61dae9f9dcac36b4d22963902f0b3dc
DTSTAMP:20260423T115215Z
SUMMARY:Munotball mit RC Sigmaringen und ZH-Flughafen
DESCRIPTION:Site internet: http://www.munot.ch/index.dna
URL:https://rotarymunot.ch/fr/agenda/show/130420
DTSTART;TZID=Europe/Zurich:20210828T180000
DTEND;TZID=Europe/Zurich:20210828T220000
LOCATION:Brücke vor dem Munot
CATEGORIES:Rotary
END:VEVENT
BEGIN:VTIMEZONE
TZID:Europe/Zurich
BEGIN:DAYLIGHT
DTSTART:20210828T180000
TZNAME:CEST
TZOFFSETTO:+0200
TZOFFSETFROM:+0200
END:DAYLIGHT
END:VTIMEZONE
END:VCALENDAR
