BEGIN:VCALENDAR
PRODID:-//eluceo/ical//2.0/EN
VERSION:2.0
CALSCALE:GREGORIAN
BEGIN:VEVENT
UID:3c4e4deb2ee75503e60738499fe65df4
DTSTAMP:20260422T132758Z
SUMMARY:Oktober-Wanderung
DESCRIPTION:
URL:https://rotarymunot.ch/fr/agenda/show/132572
DTSTART;TZID=Europe/Zurich:20211007T133000
DTEND;TZID=Europe/Zurich:20211007T170000
LOCATION:Abfahrt Bahnhof Schaffhausen/Bus Nr. 6/13:41
CATEGORIES:Rotary
END:VEVENT
BEGIN:VTIMEZONE
TZID:Europe/Zurich
BEGIN:DAYLIGHT
DTSTART:20211007T133000
TZNAME:CEST
TZOFFSETTO:+0200
TZOFFSETFROM:+0200
END:DAYLIGHT
END:VTIMEZONE
END:VCALENDAR
