BEGIN:VCALENDAR
PRODID:-//eluceo/ical//2.0/EN
VERSION:2.0
CALSCALE:GREGORIAN
BEGIN:VEVENT
UID:1f865a981ab27b7f06c24a0e0305be23
DTSTAMP:20260422T100705Z
SUMMARY:Drei Brücken und eine Geschichte
DESCRIPTION:Site internet: http://www.promenade-schaffhausen.ch\nConférenc
 ier(s): Paul Wüst
URL:https://rotarymunot.ch/fr/agenda/show/133673
DTSTART;TZID=Europe/Zurich:20211117T120000
DTEND;TZID=Europe/Zurich:20211117T140000
LOCATION:Hotel Promenade\, Fäsenstaubstrasse 43\, 8200 Schaffhausen
CATEGORIES:Rotary
END:VEVENT
BEGIN:VTIMEZONE
TZID:Europe/Zurich
BEGIN:STANDARD
DTSTART:20211117T120000
TZNAME:CET
TZOFFSETTO:+0100
TZOFFSETFROM:+0100
END:STANDARD
END:VTIMEZONE
END:VCALENDAR
