BEGIN:VCALENDAR
PRODID:-//eluceo/ical//2.0/EN
VERSION:2.0
CALSCALE:GREGORIAN
BEGIN:VEVENT
UID:3e0687680ec1abd824f19676152d271a
DTSTAMP:20260422T081731Z
SUMMARY:Kein Anlass - Promenade geschlossen
DESCRIPTION:Site internet: http://www.promenade-schaffhausen.ch
URL:https://rotarymunot.ch/fr/agenda/show/133682
DTSTART;TZID=Europe/Zurich:20211229T120000
DTEND;TZID=Europe/Zurich:20211229T120000
LOCATION:Hotel Promenade\, Fäsenstaubstrasse 43\, 8200 Schaffhausen
CATEGORIES:Rotary
END:VEVENT
BEGIN:VTIMEZONE
TZID:Europe/Zurich
BEGIN:STANDARD
DTSTART:20211229T120000
TZNAME:CET
TZOFFSETTO:+0100
TZOFFSETFROM:+0100
END:STANDARD
END:VTIMEZONE
END:VCALENDAR
