BEGIN:VCALENDAR
PRODID:-//eluceo/ical//2.0/EN
VERSION:2.0
CALSCALE:GREGORIAN
BEGIN:VEVENT
UID:c45f157475e4cb1c75a903b9a89119cb
DTSTAMP:20260422T063729Z
SUMMARY:Partner-Abendveranstaltung Orgelkonzert Andreas Jud und Nachtessen
DESCRIPTION:Site internet: https://www.kulturraum.sh/profile/muenster-schaf
 fhausen
URL:https://rotarymunot.ch/fr/agenda/show/133683
DTSTART;TZID=Europe/Zurich:20220216T174500
DTEND;TZID=Europe/Zurich:20220216T220000
LOCATION:17:45 vor Münsterkirche Schaffhausen
CATEGORIES:Rotary
END:VEVENT
BEGIN:VTIMEZONE
TZID:Europe/Zurich
BEGIN:STANDARD
DTSTART:20220216T174500
TZNAME:CET
TZOFFSETTO:+0100
TZOFFSETFROM:+0100
END:STANDARD
END:VTIMEZONE
END:VCALENDAR
