BEGIN:VCALENDAR
PRODID:-//eluceo/ical//2.0/EN
VERSION:2.0
CALSCALE:GREGORIAN
BEGIN:VEVENT
UID:ebfa6f412425de47e9625354ed152d89
DTSTAMP:20260422T055227Z
SUMMARY:Frank J. Furrer: Abend-Partneranlass - Diskussionsanlass "Kryptowä
 hrungen"
DESCRIPTION:Site internet: http://www.promenade-schaffhausen.ch
URL:https://rotarymunot.ch/fr/agenda/show/133684
DTSTART;TZID=Europe/Zurich:20220323T180000
DTEND;TZID=Europe/Zurich:20220323T213000
LOCATION:Hotel Promenade\, Fäsenstaubstrasse 43\, 8200 Schaffhausen
CATEGORIES:Rotary
END:VEVENT
BEGIN:VTIMEZONE
TZID:Europe/Zurich
BEGIN:STANDARD
DTSTART:20220323T180000
TZNAME:CET
TZOFFSETTO:+0100
TZOFFSETFROM:+0100
END:STANDARD
END:VTIMEZONE
END:VCALENDAR
