BEGIN:VCALENDAR
PRODID:-//eluceo/ical//2.0/EN
VERSION:2.0
CALSCALE:GREGORIAN
BEGIN:VEVENT
UID:8bf36394562811e03fb1b8c40b65388c
DTSTAMP:20260422T074527Z
SUMMARY:Gesprächlunch
DESCRIPTION:Site internet: http://www.promenade-schaffhausen.ch
URL:https://rotarymunot.ch/fr/agenda/show/134674
DTSTART;TZID=Europe/Zurich:20220420T120000
DTEND;TZID=Europe/Zurich:20220420T134500
LOCATION:Hotel Promenade\, Fäsenstaubstrasse 43\, 8200 Schaffhausen
CATEGORIES:Rotary
END:VEVENT
BEGIN:VTIMEZONE
TZID:Europe/Zurich
BEGIN:DAYLIGHT
DTSTART:20220420T120000
TZNAME:CEST
TZOFFSETTO:+0200
TZOFFSETFROM:+0200
END:DAYLIGHT
END:VTIMEZONE
END:VCALENDAR
