BEGIN:VCALENDAR
PRODID:-//eluceo/ical//2.0/EN
VERSION:2.0
CALSCALE:GREGORIAN
BEGIN:VEVENT
UID:31190cf93e4b93a2284dd6f7cb6db7ab
DTSTAMP:20260422T022425Z
SUMMARY:Tag für Rotary
DESCRIPTION:
URL:https://rotarymunot.ch/fr/agenda/show/141178
DTSTART;TZID=Europe/Zurich:20220521T090000
DTEND;TZID=Europe/Zurich:20220521T120000
LOCATION:Fronwagplatz Schaffhausen
CATEGORIES:Rotary
END:VEVENT
BEGIN:VTIMEZONE
TZID:Europe/Zurich
BEGIN:DAYLIGHT
DTSTART:20220521T090000
TZNAME:CEST
TZOFFSETTO:+0200
TZOFFSETFROM:+0200
END:DAYLIGHT
END:VTIMEZONE
END:VCALENDAR
