BEGIN:VCALENDAR
PRODID:-//eluceo/ical//2.0/EN
VERSION:2.0
CALSCALE:GREGORIAN
BEGIN:VEVENT
UID:68ab801441f202b20e83c5f941736c7d
DTSTAMP:20260422T020739Z
SUMMARY:Karussell II
DESCRIPTION:Conférencier(s): 
URL:https://rotarymunot.ch/fr/agenda/show/144089
DTSTART;TZID=Europe/Zurich:20220725T120000
DTEND;TZID=Europe/Zurich:20220725T140000
LOCATION:Hotel Kronenhof\, Schaffhausen
CATEGORIES:Rotary
END:VEVENT
BEGIN:VTIMEZONE
TZID:Europe/Zurich
BEGIN:DAYLIGHT
DTSTART:20220725T120000
TZNAME:CEST
TZOFFSETTO:+0200
TZOFFSETFROM:+0200
END:DAYLIGHT
END:VTIMEZONE
END:VCALENDAR
