BEGIN:VCALENDAR
PRODID:-//eluceo/ical//2.0/EN
VERSION:2.0
CALSCALE:GREGORIAN
BEGIN:VEVENT
UID:5f6a3c19f88781f3b9034a8ecc0ed7dd
DTSTAMP:20260422T002541Z
SUMMARY:Karussell III
DESCRIPTION:
URL:https://rotarymunot.ch/fr/agenda/show/144091
DTSTART;TZID=Europe/Zurich:20220804T120000
DTEND;TZID=Europe/Zurich:20220804T140000
LOCATION:Hirschen Oberstammheim
CATEGORIES:Rotary
END:VEVENT
BEGIN:VTIMEZONE
TZID:Europe/Zurich
BEGIN:DAYLIGHT
DTSTART:20220804T120000
TZNAME:CEST
TZOFFSETTO:+0200
TZOFFSETFROM:+0200
END:DAYLIGHT
END:VTIMEZONE
END:VCALENDAR
