BEGIN:VCALENDAR
PRODID:-//eluceo/ical//2.0/EN
VERSION:2.0
CALSCALE:GREGORIAN
BEGIN:VEVENT
UID:6dec88733b574e4d9cd41f766e1d1f97
DTSTAMP:20260422T020054Z
SUMMARY:Führung durch's Stadthausgeviert
DESCRIPTION:Conférencier(s): Nähere Details folgen
URL:https://rotarymunot.ch/fr/agenda/show/145279
DTSTART;TZID=Europe/Zurich:20220914T113000
DTEND;TZID=Europe/Zurich:20220914T143000
LOCATION:Treffpunkt Brunnen  am Walter Bringolf-Platz
CATEGORIES:Rotary
END:VEVENT
BEGIN:VTIMEZONE
TZID:Europe/Zurich
BEGIN:DAYLIGHT
DTSTART:20220914T113000
TZNAME:CEST
TZOFFSETTO:+0200
TZOFFSETFROM:+0200
END:DAYLIGHT
END:VTIMEZONE
END:VCALENDAR
