BEGIN:VCALENDAR
PRODID:-//eluceo/ical//2.0/EN
VERSION:2.0
CALSCALE:GREGORIAN
BEGIN:VEVENT
UID:8ad2824933c7ba885663485333adc955
DTSTAMP:20260419T161026Z
SUMMARY:CLUBVERSAMMLUNG UND AUFNAHME NEUMITGLIED
DESCRIPTION:Site internet: http://www.promenade-schaffhausen.ch\nConférenc
 ier(s): Aufnahme von Michael Hübscher
URL:https://rotarymunot.ch/fr/agenda/show/166116
DTSTART;TZID=Europe/Zurich:20240522T120000
DTEND;TZID=Europe/Zurich:20240522T134500
LOCATION:Hotel Promenade\, Fäsenstaubstrasse 43\, 8200 Schaffhausen
CATEGORIES:Rotary
END:VEVENT
BEGIN:VTIMEZONE
TZID:Europe/Zurich
BEGIN:DAYLIGHT
DTSTART:20240522T120000
TZNAME:CEST
TZOFFSETTO:+0200
TZOFFSETFROM:+0200
END:DAYLIGHT
END:VTIMEZONE
END:VCALENDAR
