BEGIN:VCALENDAR
PRODID:-//eluceo/ical//2.0/EN
VERSION:2.0
CALSCALE:GREGORIAN
BEGIN:VEVENT
UID:2ede12cfd40ca9f10744ac375043e093
DTSTAMP:20260424T114545Z
SUMMARY:26. Jassturnier RC Schaffhausen und RC Munot
DESCRIPTION:
URL:https://rotarymunot.ch/fr/agenda/show/185122
DTSTART;TZID=Europe/Zurich:20241021T173000
DTEND;TZID=Europe/Zurich:20241021T220000
LOCATION:Restaurant Schützenhaus
CATEGORIES:Rotary
END:VEVENT
BEGIN:VTIMEZONE
TZID:Europe/Zurich
BEGIN:DAYLIGHT
DTSTART:20241021T173000
TZNAME:CEST
TZOFFSETTO:+0200
TZOFFSETFROM:+0200
END:DAYLIGHT
END:VTIMEZONE
END:VCALENDAR
