BEGIN:VCALENDAR
PRODID:-//eluceo/ical//2.0/EN
VERSION:2.0
CALSCALE:GREGORIAN
BEGIN:VEVENT
UID:d6920077270acc1feac8a642df1cb6d6
DTSTAMP:20260424T102724Z
SUMMARY:Präsenzcafé  
DESCRIPTION:
URL:https://rotarymunot.ch/fr/agenda/show/84355
DTSTART;TZID=Europe/Zurich:20180329T063000
DTEND;TZID=Europe/Zurich:20180329T063000
LOCATION:Café Müller\, Vorstadt  
CATEGORIES:Rotary
END:VEVENT
BEGIN:VTIMEZONE
TZID:Europe/Zurich
BEGIN:DAYLIGHT
DTSTART:20180329T063000
TZNAME:CEST
TZOFFSETTO:+0200
TZOFFSETFROM:+0200
END:DAYLIGHT
END:VTIMEZONE
END:VCALENDAR
