BEGIN:VCALENDAR
PRODID:-//eluceo/ical//2.0/EN
VERSION:2.0
CALSCALE:GREGORIAN
BEGIN:VEVENT
UID:fd2565d45b51da3256ee63cf8ecdd27a
DTSTAMP:20260424T095825Z
SUMMARY: Präsenzcafé 
DESCRIPTION:
URL:https://rotarymunot.ch/fr/agenda/show/84358
DTSTART;TZID=Europe/Zurich:20180405T063000
DTEND;TZID=Europe/Zurich:20180405T063000
LOCATION:Café Müller\, Vorstadt  
CATEGORIES:Rotary
END:VEVENT
BEGIN:VTIMEZONE
TZID:Europe/Zurich
BEGIN:DAYLIGHT
DTSTART:20180405T063000
TZNAME:CEST
TZOFFSETTO:+0200
TZOFFSETFROM:+0200
END:DAYLIGHT
END:VTIMEZONE
END:VCALENDAR
