BEGIN:VCALENDAR
PRODID:-//eluceo/ical//2.0/EN
VERSION:2.0
CALSCALE:GREGORIAN
BEGIN:VEVENT
UID:12333d018eb51f1bcb200567eb1f21d2
DTSTAMP:20260424T125607Z
SUMMARY:Vorstandssitzung
DESCRIPTION:Conférencier(s): Leitung Walter Vogelsanger\, Präsident
URL:https://rotarymunot.ch/fr/agenda/show/84657
DTSTART;TZID=Europe/Zurich:20180416T190000
DTEND;TZID=Europe/Zurich:20180416T190000
LOCATION:Hotel Promenade
CATEGORIES:Rotary
END:VEVENT
BEGIN:VTIMEZONE
TZID:Europe/Zurich
BEGIN:DAYLIGHT
DTSTART:20180416T190000
TZNAME:CEST
TZOFFSETTO:+0200
TZOFFSETFROM:+0200
END:DAYLIGHT
END:VTIMEZONE
END:VCALENDAR
