BEGIN:VCALENDAR
PRODID:-//eluceo/ical//2.0/EN
VERSION:2.0
CALSCALE:GREGORIAN
BEGIN:VEVENT
UID:bf83a41bcfb428e7718b58202ce365e0
DTSTAMP:20260422T134003Z
SUMMARY:Plauderlunch
DESCRIPTION:
URL:https://rotarymunot.ch/fr/agenda/show/87806
DTSTART;TZID=Europe/Zurich:20180711T120000
DTEND;TZID=Europe/Zurich:20180711T120000
LOCATION:Hotel Promenade
CATEGORIES:Rotary
END:VEVENT
BEGIN:VTIMEZONE
TZID:Europe/Zurich
BEGIN:DAYLIGHT
DTSTART:20180711T120000
TZNAME:CEST
TZOFFSETTO:+0200
TZOFFSETFROM:+0200
END:DAYLIGHT
END:VTIMEZONE
END:VCALENDAR
