BEGIN:VCALENDAR
PRODID:-//eluceo/ical//2.0/EN
VERSION:2.0
CALSCALE:GREGORIAN
BEGIN:VEVENT
UID:cd547dc4aeb41c4f05e0843e9fd511c2
DTSTAMP:20260421T092459Z
SUMMARY:Clubversammlung
DESCRIPTION:Vefsíða: http://www.promenade-schaffhausen.ch\nFyrirlesari(ar
 ): Thomas Feurer
URL:https://rotarymunot.ch/is/agenda/show/189234
DTSTART;TZID=Europe/Zurich:20250226T114500
DTEND;TZID=Europe/Zurich:20250226T134500
LOCATION:Hotel Promenade\, Fäsenstaubstrasse 43\, 8200 Schaffhausen
CATEGORIES:Rotary
END:VEVENT
BEGIN:VTIMEZONE
TZID:Europe/Zurich
BEGIN:STANDARD
DTSTART:20250226T114500
TZNAME:CET
TZOFFSETTO:+0100
TZOFFSETFROM:+0100
END:STANDARD
END:VTIMEZONE
END:VCALENDAR
