BEGIN:VCALENDAR
PRODID:-//eluceo/ical//2.0/EN
VERSION:2.0
CALSCALE:GREGORIAN
BEGIN:VEVENT
UID:0f8a9e726bfd7f3e5ebbf5e26659f152
DTSTAMP:20260423T055629Z
SUMMARY:Aktion ShelterBox auf dem Fronwagplatz
DESCRIPTION:Wir - rund 25 Rotarierinnen und Rotarier der Clubs Rotary Scha
 ffhausen und Rotary Schaffhausen Munot - engagieren uns auf dem Fronwagpla
 tz für die Aktion ShelterBox. Wir wollen diese Überlebenskisten und dere
 n Inhalt der Schaffhauser Bevölkerung vorstellen. ShelterBox gibt jenen F
 amilien Obdach und Schutz\, die durch eine Naturkatastrophe oder humanitä
 re Krise alles verloren haben. Die Überlebenskisten treffen innert 48 Stu
 nden am Ort ein. Herzstück jeder Box ist ein Zelt für eine Grossfamilie.
 \nSito web: https://www.shelterbox.ch/
URL:https://rotarymunot.ch/it/agenda/show/100965
DTSTART;TZID=Europe/Zurich:20190817T083000
DTEND;TZID=Europe/Zurich:20190817T120000
LOCATION:Fronwagplatz\, Schaffhausen
CATEGORIES:Rotary
END:VEVENT
BEGIN:VTIMEZONE
TZID:Europe/Zurich
BEGIN:DAYLIGHT
DTSTART:20190817T083000
TZNAME:CEST
TZOFFSETTO:+0200
TZOFFSETFROM:+0200
END:DAYLIGHT
END:VTIMEZONE
END:VCALENDAR
