BEGIN:VCALENDAR
PRODID:-//eluceo/ical//2.0/EN
VERSION:2.0
CALSCALE:GREGORIAN
BEGIN:VEVENT
UID:e64583f68a315015053b4b4f3c6ba825
DTSTAMP:20260423T150449Z
SUMMARY:dinner@home - Termin 2
DESCRIPTION:
URL:https://rotarymunot.ch/it/agenda/show/129721
DTSTART;TZID=Europe/Zurich:20211127T180000
DTEND;TZID=Europe/Zurich:20211127T180000
LOCATION:privat
CATEGORIES:Rotary
END:VEVENT
BEGIN:VTIMEZONE
TZID:Europe/Zurich
BEGIN:STANDARD
DTSTART:20211127T180000
TZNAME:CET
TZOFFSETTO:+0100
TZOFFSETFROM:+0100
END:STANDARD
END:VTIMEZONE
END:VCALENDAR
