BEGIN:VCALENDAR
PRODID:-//eluceo/ical//2.0/EN
VERSION:2.0
CALSCALE:GREGORIAN
BEGIN:VEVENT
UID:72962ac9144d325608d7751f89d9c534
DTSTAMP:20260421T185005Z
SUMMARY:CLUBVERSAMMLUNG
DESCRIPTION:Sito web: http://www.promenade-schaffhausen.ch
URL:https://rotarymunot.ch/it/agenda/show/166115
DTSTART;TZID=Europe/Zurich:20240221T120000
DTEND;TZID=Europe/Zurich:20240221T134500
LOCATION:Hotel Promenade\, Fäsenstaubstrasse 43\, 8200 Schaffhausen
CATEGORIES:Rotary
END:VEVENT
BEGIN:VTIMEZONE
TZID:Europe/Zurich
BEGIN:STANDARD
DTSTART:20240221T120000
TZNAME:CET
TZOFFSETTO:+0100
TZOFFSETFROM:+0100
END:STANDARD
END:VTIMEZONE
END:VCALENDAR
