BEGIN:VCALENDAR
PRODID:-//eluceo/ical//2.0/EN
VERSION:2.0
CALSCALE:GREGORIAN
BEGIN:VEVENT
UID:e36ce1059c5f1d5d6fd002fe7d3eab17
DTSTAMP:20260421T152336Z
SUMMARY:Klassifikationsvortrag - Jean-Marc Behr
DESCRIPTION:Sito web: http://www.promenade-schaffhausen.ch
URL:https://rotarymunot.ch/it/agenda/show/166215
DTSTART;TZID=Europe/Zurich:20240117T120000
DTEND;TZID=Europe/Zurich:20240117T134500
LOCATION:Hotel Promenade\, Fäsenstaubstrasse 43\, 8200 Schaffhausen
CATEGORIES:Rotary
END:VEVENT
BEGIN:VTIMEZONE
TZID:Europe/Zurich
BEGIN:STANDARD
DTSTART:20240117T120000
TZNAME:CET
TZOFFSETTO:+0100
TZOFFSETFROM:+0100
END:STANDARD
END:VTIMEZONE
END:VCALENDAR
