BEGIN:VCALENDAR
PRODID:-//eluceo/ical//2.0/EN
VERSION:2.0
CALSCALE:GREGORIAN
BEGIN:VEVENT
UID:ddab5ba4a1f63f4ba1ff668362d3f65f
DTSTAMP:20260421T152910Z
SUMMARY:CARTE ROUGE #6a -WHISKEY\, WHISKY oder doch WISKI - die Lösung
DESCRIPTION:Sito web: http://www.promenade-schaffhausen.ch\nRelatore/i: Bor
 is Litmanowitsch
URL:https://rotarymunot.ch/it/agenda/show/167624
DTSTART;TZID=Europe/Zurich:20240214T120000
DTEND;TZID=Europe/Zurich:20240214T134500
LOCATION:Hotel Promenade\, Fäsenstaubstrasse 43\, 8200 Schaffhausen
CATEGORIES:Rotary
END:VEVENT
BEGIN:VTIMEZONE
TZID:Europe/Zurich
BEGIN:STANDARD
DTSTART:20240214T120000
TZNAME:CET
TZOFFSETTO:+0100
TZOFFSETFROM:+0100
END:STANDARD
END:VTIMEZONE
END:VCALENDAR
