BEGIN:VCALENDAR
PRODID:-//eluceo/ical//2.0/EN
VERSION:2.0
CALSCALE:GREGORIAN
BEGIN:VEVENT
UID:6df60e179bd4db07a16043f9db3bd263
DTSTAMP:20260422T092411Z
SUMMARY:Einladung von Bernhard + Irmgard Seiler / Anmelden bei walter.vogel
 sanger@shinternet.ch oder Tel. 079 927 50 71
DESCRIPTION:
URL:https://rotarymunot.ch/nl/agenda/show/176991
DTSTART;TZID=Europe/Zurich:20240525T170000
DTEND;TZID=Europe/Zurich:20240525T210000
LOCATION:Bernhard + Irmgard Seiler\, Hammenweg 11\,  8240 Thayngen
CATEGORIES:Rotary
END:VEVENT
BEGIN:VTIMEZONE
TZID:Europe/Zurich
BEGIN:DAYLIGHT
DTSTART:20240525T170000
TZNAME:CEST
TZOFFSETTO:+0200
TZOFFSETFROM:+0200
END:DAYLIGHT
END:VTIMEZONE
END:VCALENDAR
