BEGIN:VCALENDAR
PRODID:-//eluceo/ical//2.0/EN
VERSION:2.0
CALSCALE:GREGORIAN
BEGIN:VEVENT
UID:b6e5972463123cbf43c22c5fa4f879c6
DTSTAMP:20260423T100657Z
SUMMARY:Go-Tec begeistert!   -   Bitte um Anmeldung
DESCRIPTION:Talare: Martin Sengel
URL:https://rotarymunot.ch/sv/agenda/show/192556
DTSTART;TZID=Europe/Zurich:20250430T113000
DTEND;TZID=Europe/Zurich:20250430T140000
LOCATION:Neuhausen am Rheinfall\, Restaurant Grünerbaum\, anschliessend Ba
 dstrasse 21
CATEGORIES:Rotary
END:VEVENT
BEGIN:VTIMEZONE
TZID:Europe/Zurich
BEGIN:DAYLIGHT
DTSTART:20250430T113000
TZNAME:CEST
TZOFFSETTO:+0200
TZOFFSETFROM:+0200
END:DAYLIGHT
END:VTIMEZONE
END:VCALENDAR
