BEGIN:VCALENDAR
PRODID:-//eluceo/ical//2.0/EN
VERSION:2.0
CALSCALE:GREGORIAN
BEGIN:VEVENT
UID:58968cea09d9598fa035c67d178c374f
DTSTAMP:20260423T100907Z
SUMMARY:Clubreise 2025   -   Bitte um Anmeldung
DESCRIPTION:
URL:https://rotarymunot.ch/sv/agenda/show/192557
DTSTART;TZID=Europe/Zurich:20250507T133000
DTEND;TZID=Europe/Zurich:20250507T213000
LOCATION:Rheinfall - Rheinau - Schaffhausen
CATEGORIES:Rotary
END:VEVENT
BEGIN:VTIMEZONE
TZID:Europe/Zurich
BEGIN:DAYLIGHT
DTSTART:20250507T133000
TZNAME:CEST
TZOFFSETTO:+0200
TZOFFSETFROM:+0200
END:DAYLIGHT
END:VTIMEZONE
END:VCALENDAR
