BEGIN:VCALENDAR
PRODID:-//eluceo/ical//2.0/EN
VERSION:2.0
CALSCALE:GREGORIAN
BEGIN:VEVENT
UID:4c750418d2197d27959abe897435427b
DTSTAMP:20260423T100119Z
SUMMARY:Shelterbox Standaktion Fronwagplatz mit RC Schaffhausen
DESCRIPTION:Talare: Infoanlass  für das Standpersonal über ShelterBoxDat
 um:              Donnerstag 8.\nMai 2025Zeit:        
             18:15 hOrt: Müller Beck\, das Café     Vorsta
 dt\n25\, SchaffhausenTeilnahme nicht zwingend. Informationen sind zu finde
 n auf:www.shelterbox.ch\n\n\n\n\n\n\n\n\n\n\n\nwww.shelterbox.org
URL:https://rotarymunot.ch/sv/agenda/show/192558
DTSTART;TZID=Europe/Zurich:20250510T070000
DTEND;TZID=Europe/Zurich:20250510T123000
LOCATION:Fronwagplatz Schaffhausen
CATEGORIES:Rotary
END:VEVENT
BEGIN:VTIMEZONE
TZID:Europe/Zurich
BEGIN:DAYLIGHT
DTSTART:20250510T070000
TZNAME:CEST
TZOFFSETTO:+0200
TZOFFSETFROM:+0200
END:DAYLIGHT
END:VTIMEZONE
END:VCALENDAR
