BEGIN:VCALENDAR
PRODID:-//eluceo/ical//2.0/EN
VERSION:2.0
CALSCALE:GREGORIAN
BEGIN:VEVENT
UID:aa4acaf1acfb3de402337e56c0103fa7
DTSTAMP:20260419T123517Z
SUMMARY:Amtsübergabe
DESCRIPTION:Webbplats: https://www.bergtrotte.ch/\nTalare: Thomas Feurer / 
 Thomas HolensteinDie Amtsübergabe "von Thomas zu Thomas" findet in der ma
 lerischen Bergtrotte Osterfingen statt. Exzellente öV-Verbindungen erlau
 ben auch die An- und Abreise mit Bahn und Bus. Dazu hier gleich zwei mögl
 iche Verbindungen:Bahnhof Schaffhausen ab: 17:49 Uhr / Ankunft Bergtrotte 
 18:11 UhrBahnhof Schaffhausen ab: 18:19 Uhr / Ankunft Bergtrotte 18:41 Uhr
 Die letzte öV-Verbindung fährt Bergtrotte ab: 23:12 UhrDie Kosten für d
 as Dinner inkl. Gettränke betragen CHF 60 und werden gleich vor Ort bezah
 lt.All jene\, welche "Vegi" bestellen wollen\, können diese bei der Anmel
 dung in der Rubrik Kommentare anmerken.
URL:https://rotarymunot.ch/sv/agenda/show/192565
DTSTART;TZID=Europe/Zurich:20250625T183000
DTEND;TZID=Europe/Zurich:20250625T220000
LOCATION:Bergtrotte Osterfingen
CATEGORIES:Rotary
END:VEVENT
BEGIN:VTIMEZONE
TZID:Europe/Zurich
BEGIN:DAYLIGHT
DTSTART:20250625T183000
TZNAME:CEST
TZOFFSETTO:+0200
TZOFFSETFROM:+0200
END:DAYLIGHT
END:VTIMEZONE
END:VCALENDAR
