BEGIN:VCALENDAR
PRODID:-//eluceo/ical//2.0/EN
VERSION:2.0
CALSCALE:GREGORIAN
BEGIN:VEVENT
UID:fb3429440b825def87c8b6878b1b127a
DTSTAMP:20260423T100416Z
SUMMARY:Wanderung vom 5. Juni 2025
DESCRIPTION:
URL:https://rotarymunot.ch/sv/agenda/show/195532
DTSTART;TZID=Europe/Zurich:20250605T140000
DTEND;TZID=Europe/Zurich:20250605T180000
LOCATION:Diessenhofen und Umgebung
CATEGORIES:Rotary
END:VEVENT
BEGIN:VTIMEZONE
TZID:Europe/Zurich
BEGIN:DAYLIGHT
DTSTART:20250605T140000
TZNAME:CEST
TZOFFSETTO:+0200
TZOFFSETFROM:+0200
END:DAYLIGHT
END:VTIMEZONE
END:VCALENDAR
